Package: Iyer517 Version: 1.52.0 Command: /home/biocbuild/bbs-3.22-bioc/R/bin/R CMD check --install=check:Iyer517.install-out.txt --library=/home/biocbuild/bbs-3.22-bioc/R/site-library --timings Iyer517_1.52.0.tar.gz StartedAt: 2025-11-04 12:28:28 -0500 (Tue, 04 Nov 2025) EndedAt: 2025-11-04 12:28:51 -0500 (Tue, 04 Nov 2025) EllapsedTime: 22.7 seconds RetCode: 0 Status: OK CheckDir: Iyer517.Rcheck Warnings: 0