Package: ITALICSData Version: 2.46.0 Command: /home/biocbuild/bbs-3.21-bioc/R/bin/R CMD check --install=check:ITALICSData.install-out.txt --library=/home/biocbuild/bbs-3.21-bioc/R/site-library --timings ITALICSData_2.46.0.tar.gz StartedAt: 2025-09-30 12:28:59 -0400 (Tue, 30 Sep 2025) EndedAt: 2025-09-30 12:29:17 -0400 (Tue, 30 Sep 2025) EllapsedTime: 18.6 seconds RetCode: 0 Status: WARNINGS CheckDir: ITALICSData.Rcheck Warnings: 1