Package: HumanAffyData Version: 1.36.0 Command: /home/biocbuild/bbs-3.22-bioc/R/bin/R CMD check --install=check:HumanAffyData.install-out.txt --library=/home/biocbuild/bbs-3.22-bioc/R/site-library --timings HumanAffyData_1.36.0.tar.gz StartedAt: 2025-11-04 12:26:23 -0500 (Tue, 04 Nov 2025) EndedAt: 2025-11-04 12:27:27 -0500 (Tue, 04 Nov 2025) EllapsedTime: 63.7 seconds RetCode: 0 Status: OK CheckDir: HumanAffyData.Rcheck Warnings: 0