Package: HumanAffyData Version: 1.36.0 Command: /home/biocbuild/bbs-3.22-bioc/R/bin/R CMD build --keep-empty-dirs --no-resave-data HumanAffyData StartedAt: 2025-10-30 11:32:36 -0400 (Thu, 30 Oct 2025) EndedAt: 2025-10-30 11:33:06 -0400 (Thu, 30 Oct 2025) EllapsedTime: 29.6 seconds RetCode: 0 Status: OK PackageFile: HumanAffyData_1.36.0.tar.gz PackageFileSize: 157.3 KiB