Package: Hiiragi2013 Version: 1.46.0 Command: /home/biocbuild/bbs-3.22-bioc/R/bin/R CMD check --install=check:Hiiragi2013.install-out.txt --library=/home/biocbuild/bbs-3.22-bioc/R/site-library --timings Hiiragi2013_1.46.0.tar.gz StartedAt: 2025-11-25 12:28:22 -0500 (Tue, 25 Nov 2025) EndedAt: 2025-11-25 12:37:07 -0500 (Tue, 25 Nov 2025) EllapsedTime: 524.4 seconds RetCode: 0 Status: WARNINGS CheckDir: Hiiragi2013.Rcheck Warnings: 1