Package: HighlyReplicatedRNASeq Version: 1.22.0 Command: /home/biocbuild/bbs-3.22-bioc/R/bin/R CMD build --keep-empty-dirs --no-resave-data HighlyReplicatedRNASeq StartedAt: 2025-10-30 11:31:31 -0400 (Thu, 30 Oct 2025) EndedAt: 2025-10-30 11:32:43 -0400 (Thu, 30 Oct 2025) EllapsedTime: 72.8 seconds RetCode: 0 Status: OK PackageFile: HighlyReplicatedRNASeq_1.22.0.tar.gz PackageFileSize: 468.5 KiB