Package: HiContactsData Version: 1.12.0 Command: /home/biocbuild/bbs-3.22-bioc/R/bin/R CMD build --keep-empty-dirs --no-resave-data HiContactsData StartedAt: 2025-11-04 11:24:30 -0500 (Tue, 04 Nov 2025) EndedAt: 2025-11-04 11:24:53 -0500 (Tue, 04 Nov 2025) EllapsedTime: 23.0 seconds RetCode: 0 Status: OK PackageFile: HiContactsData_1.12.0.tar.gz PackageFileSize: 221.9 KiB