Package: HiCDataLymphoblast Version: 1.46.0 Command: /home/biocbuild/bbs-3.22-bioc/R/bin/R CMD check --install=check:HiCDataLymphoblast.install-out.txt --library=/home/biocbuild/bbs-3.22-bioc/R/site-library --timings HiCDataLymphoblast_1.46.0.tar.gz StartedAt: 2025-11-04 12:24:28 -0500 (Tue, 04 Nov 2025) EndedAt: 2025-11-04 12:24:51 -0500 (Tue, 04 Nov 2025) EllapsedTime: 22.6 seconds RetCode: 0 Status: OK CheckDir: HiCDataLymphoblast.Rcheck Warnings: 0