Package: HiCDataHumanIMR90 Version: 1.30.0 Command: /home/biocbuild/bbs-3.22-bioc/R/bin/R CMD build --keep-empty-dirs --no-resave-data HiCDataHumanIMR90 StartedAt: 2025-10-30 11:31:20 -0400 (Thu, 30 Oct 2025) EndedAt: 2025-10-30 11:32:17 -0400 (Thu, 30 Oct 2025) EllapsedTime: 56.9 seconds RetCode: 0 Status: OK PackageFile: HiCDataHumanIMR90_1.30.0.tar.gz PackageFileSize: 70.64 MiB