Package: HiBED Version: 1.8.0 Command: /home/biocbuild/bbs-3.22-bioc/R/bin/R CMD INSTALL HiBED StartedAt: 2025-10-30 11:07:12 -0400 (Thu, 30 Oct 2025) EndedAt: 2025-10-30 11:08:08 -0400 (Thu, 30 Oct 2025) EllapsedTime: 56.2 seconds RetCode: 0 Status: OK