Package: HarmonizedTCGAData Version: 1.32.0 Command: /home/biocbuild/bbs-3.22-bioc/R/bin/R CMD INSTALL HarmonizedTCGAData StartedAt: 2025-10-30 10:57:32 -0400 (Thu, 30 Oct 2025) EndedAt: 2025-10-30 10:57:56 -0400 (Thu, 30 Oct 2025) EllapsedTime: 23.8 seconds RetCode: 0 Status: OK