Package: HSMMSingleCell Version: 1.30.0 Command: /home/biocbuild/bbs-3.22-bioc/R/bin/R CMD build --keep-empty-dirs --no-resave-data HSMMSingleCell StartedAt: 2025-10-30 11:32:34 -0400 (Thu, 30 Oct 2025) EndedAt: 2025-10-30 11:32:36 -0400 (Thu, 30 Oct 2025) EllapsedTime: 2.0 seconds RetCode: 0 Status: OK PackageFile: HSMMSingleCell_1.30.0.tar.gz PackageFileSize: 16.09 MiB