Package: HMP2Data Version: 1.24.0 Command: /home/biocbuild/bbs-3.22-bioc/R/bin/R CMD INSTALL HMP2Data StartedAt: 2025-10-30 11:03:05 -0400 (Thu, 30 Oct 2025) EndedAt: 2025-10-30 11:03:53 -0400 (Thu, 30 Oct 2025) EllapsedTime: 48.6 seconds RetCode: 0 Status: OK