Package: HMP16SData Version: 1.30.0 Command: /home/biocbuild/bbs-3.22-bioc/R/bin/R CMD INSTALL HMP16SData StartedAt: 2025-10-30 10:59:39 -0400 (Thu, 30 Oct 2025) EndedAt: 2025-10-30 11:00:36 -0400 (Thu, 30 Oct 2025) EllapsedTime: 56.1 seconds RetCode: 0 Status: OK