Package: HMP16SData Version: 1.30.0 Command: /home/biocbuild/bbs-3.22-bioc/R/bin/R CMD build --keep-empty-dirs --no-resave-data HMP16SData StartedAt: 2025-10-30 11:31:58 -0400 (Thu, 30 Oct 2025) EndedAt: 2025-10-30 11:35:31 -0400 (Thu, 30 Oct 2025) EllapsedTime: 212.9 seconds RetCode: 0 Status: OK PackageFile: HMP16SData_1.30.0.tar.gz PackageFileSize: 16.36 MiB