Package: HEEBOdata Version: 1.48.0 Command: /home/biocbuild/bbs-3.22-bioc/R/bin/R CMD INSTALL HEEBOdata StartedAt: 2025-10-30 10:55:21 -0400 (Thu, 30 Oct 2025) EndedAt: 2025-10-30 10:55:23 -0400 (Thu, 30 Oct 2025) EllapsedTime: 1.8 seconds RetCode: 0 Status: OK