Package: HDCytoData Version: 1.30.0 Command: /home/biocbuild/bbs-3.22-bioc/R/bin/R CMD INSTALL HDCytoData StartedAt: 2025-10-30 11:07:08 -0400 (Thu, 30 Oct 2025) EndedAt: 2025-10-30 11:07:43 -0400 (Thu, 30 Oct 2025) EllapsedTime: 35.5 seconds RetCode: 0 Status: OK