Package: HD2013SGI Version: 1.48.0 Command: /home/biocbuild/bbs-3.21-bioc/R/bin/R CMD check --install=check:HD2013SGI.install-out.txt --library=/home/biocbuild/bbs-3.21-bioc/R/site-library --timings HD2013SGI_1.48.0.tar.gz StartedAt: 2025-10-16 12:23:17 -0400 (Thu, 16 Oct 2025) EndedAt: 2025-10-16 12:32:36 -0400 (Thu, 16 Oct 2025) EllapsedTime: 558.8 seconds RetCode: 0 Status: OK CheckDir: HD2013SGI.Rcheck Warnings: 0