Package: HCATonsilData Version: 1.8.0 Command: /home/biocbuild/bbs-3.22-bioc/R/bin/R CMD build --keep-empty-dirs --no-resave-data HCATonsilData StartedAt: 2025-11-04 11:22:21 -0500 (Tue, 04 Nov 2025) EndedAt: 2025-11-04 11:23:38 -0500 (Tue, 04 Nov 2025) EllapsedTime: 77.0 seconds RetCode: 0 Status: OK PackageFile: HCATonsilData_1.8.0.tar.gz PackageFileSize: 6.247 MiB