Package: HCAData Version: 1.26.0 Command: /home/biocbuild/bbs-3.22-bioc/R/bin/R CMD check --install=check:HCAData.install-out.txt --library=/home/biocbuild/bbs-3.22-bioc/R/site-library --timings HCAData_1.26.0.tar.gz StartedAt: 2025-11-04 12:22:25 -0500 (Tue, 04 Nov 2025) EndedAt: 2025-11-04 12:28:28 -0500 (Tue, 04 Nov 2025) EllapsedTime: 362.6 seconds RetCode: 0 Status: OK CheckDir: HCAData.Rcheck Warnings: 0