Package: HCAData Version: 1.26.0 Command: /home/biocbuild/bbs-3.22-bioc/R/bin/R CMD build --keep-empty-dirs --no-resave-data HCAData StartedAt: 2025-11-04 11:22:14 -0500 (Tue, 04 Nov 2025) EndedAt: 2025-11-04 11:25:12 -0500 (Tue, 04 Nov 2025) EllapsedTime: 177.3 seconds RetCode: 0 Status: OK PackageFile: HCAData_1.26.0.tar.gz PackageFileSize: 1.476 MiB