Package: GenomicDistributionsData Version: 1.18.0 Command: /home/biocbuild/bbs-3.22-bioc/R/bin/R CMD INSTALL GenomicDistributionsData StartedAt: 2025-11-04 11:01:18 -0500 (Tue, 04 Nov 2025) EndedAt: 2025-11-04 11:01:57 -0500 (Tue, 04 Nov 2025) EllapsedTime: 38.9 seconds RetCode: 0 Status: OK