Package: GenomicDistributionsData Version: 1.18.0 Command: /home/biocbuild/bbs-3.22-bioc/R/bin/R CMD check --install=check:GenomicDistributionsData.install-out.txt --library=/home/biocbuild/bbs-3.22-bioc/R/site-library --timings GenomicDistributionsData_1.18.0.tar.gz StartedAt: 2025-11-04 12:20:28 -0500 (Tue, 04 Nov 2025) EndedAt: 2025-11-04 12:25:14 -0500 (Tue, 04 Nov 2025) EllapsedTime: 286.1 seconds RetCode: 0 Status: OK CheckDir: GenomicDistributionsData.Rcheck Warnings: 0