Package: GWASdata Version: 1.48.0 Command: /home/biocbuild/bbs-3.22-bioc/R/bin/R CMD build --keep-empty-dirs --no-resave-data GWASdata StartedAt: 2025-11-04 11:21:13 -0500 (Tue, 04 Nov 2025) EndedAt: 2025-11-04 11:21:19 -0500 (Tue, 04 Nov 2025) EllapsedTime: 5.9 seconds RetCode: 0 Status: OK PackageFile: GWASdata_1.48.0.tar.gz PackageFileSize: 8.249 MiB