Package: GSVAdata Version: 1.46.0 Command: /home/biocbuild/bbs-3.22-bioc/R/bin/R CMD INSTALL GSVAdata StartedAt: 2025-11-04 10:58:19 -0500 (Tue, 04 Nov 2025) EndedAt: 2025-11-04 10:58:42 -0500 (Tue, 04 Nov 2025) EllapsedTime: 22.6 seconds RetCode: 0 Status: OK