Package: GSE62944 Version: 1.38.0 Command: /home/biocbuild/bbs-3.22-bioc/R/bin/R CMD INSTALL GSE62944 StartedAt: 2025-11-04 11:00:02 -0500 (Tue, 04 Nov 2025) EndedAt: 2025-11-04 11:00:19 -0500 (Tue, 04 Nov 2025) EllapsedTime: 17.0 seconds RetCode: 0 Status: OK