Package: GSE62944 Version: 1.38.0 Command: /home/biocbuild/bbs-3.22-bioc/R/bin/R CMD check --install=check:GSE62944.install-out.txt --library=/home/biocbuild/bbs-3.22-bioc/R/site-library --timings GSE62944_1.38.0.tar.gz StartedAt: 2025-11-04 12:21:13 -0500 (Tue, 04 Nov 2025) EndedAt: 2025-11-04 12:23:39 -0500 (Tue, 04 Nov 2025) EllapsedTime: 145.9 seconds RetCode: 0 Status: OK CheckDir: GSE62944.Rcheck Warnings: 0