Package: GSE62944 Version: 1.38.0 Command: /home/biocbuild/bbs-3.22-bioc/R/bin/R CMD build --keep-empty-dirs --no-resave-data GSE62944 StartedAt: 2025-11-04 11:21:09 -0500 (Tue, 04 Nov 2025) EndedAt: 2025-11-04 11:22:30 -0500 (Tue, 04 Nov 2025) EllapsedTime: 80.8 seconds RetCode: 0 Status: OK PackageFile: GSE62944_1.38.0.tar.gz PackageFileSize: 221.1 KiB