Package: GSE13015 Version: 1.18.0 Command: /home/biocbuild/bbs-3.22-bioc/R/bin/R CMD INSTALL GSE13015 StartedAt: 2025-11-04 10:58:47 -0500 (Tue, 04 Nov 2025) EndedAt: 2025-11-04 10:59:03 -0500 (Tue, 04 Nov 2025) EllapsedTime: 16.3 seconds RetCode: 0 Status: OK