Package: GSE13015 Version: 1.18.0 Command: /home/biocbuild/bbs-3.22-bioc/R/bin/R CMD check --install=check:GSE13015.install-out.txt --library=/home/biocbuild/bbs-3.22-bioc/R/site-library --timings GSE13015_1.18.0.tar.gz StartedAt: 2025-11-04 12:21:12 -0500 (Tue, 04 Nov 2025) EndedAt: 2025-11-04 12:22:25 -0500 (Tue, 04 Nov 2025) EllapsedTime: 72.6 seconds RetCode: 0 Status: OK CheckDir: GSE13015.Rcheck Warnings: 0