Package: GSE103322 Version: 1.16.0 Command: /home/biocbuild/bbs-3.22-bioc/R/bin/R CMD INSTALL GSE103322 StartedAt: 2025-11-04 10:58:45 -0500 (Tue, 04 Nov 2025) EndedAt: 2025-11-04 10:59:03 -0500 (Tue, 04 Nov 2025) EllapsedTime: 17.3 seconds RetCode: 0 Status: OK