Package: GSE103322 Version: 1.16.0 Command: /home/biocbuild/bbs-3.22-bioc/R/bin/R CMD build --keep-empty-dirs --no-resave-data GSE103322 StartedAt: 2025-11-04 11:20:58 -0500 (Tue, 04 Nov 2025) EndedAt: 2025-11-04 11:21:33 -0500 (Tue, 04 Nov 2025) EllapsedTime: 35.1 seconds RetCode: 0 Status: OK PackageFile: GSE103322_1.16.0.tar.gz PackageFileSize: 218.7 KiB