Package: GSBenchMark Version: 1.30.0 Command: /home/biocbuild/bbs-3.22-bioc/R/bin/R CMD build --keep-empty-dirs --no-resave-data GSBenchMark StartedAt: 2025-10-30 11:27:21 -0400 (Thu, 30 Oct 2025) EndedAt: 2025-10-30 11:27:35 -0400 (Thu, 30 Oct 2025) EllapsedTime: 13.7 seconds RetCode: 0 Status: OK PackageFile: GSBenchMark_1.30.0.tar.gz PackageFileSize: 41.87 MiB