Package: GIGSEAdata Version: 1.28.0 Command: /home/biocbuild/bbs-3.22-bioc/R/bin/R CMD check --install=check:GIGSEAdata.install-out.txt --library=/home/biocbuild/bbs-3.22-bioc/R/site-library --timings GIGSEAdata_1.28.0.tar.gz StartedAt: 2025-11-04 12:20:53 -0500 (Tue, 04 Nov 2025) EndedAt: 2025-11-04 12:21:12 -0500 (Tue, 04 Nov 2025) EllapsedTime: 18.8 seconds RetCode: 0 Status: WARNINGS CheckDir: GIGSEAdata.Rcheck Warnings: 1