Package: FlowSorted.DLPFC.450k Version: 1.46.0 Command: /home/biocbuild/bbs-3.22-bioc/R/bin/R CMD INSTALL FlowSorted.DLPFC.450k StartedAt: 2025-10-30 11:04:38 -0400 (Thu, 30 Oct 2025) EndedAt: 2025-10-30 11:05:57 -0400 (Thu, 30 Oct 2025) EllapsedTime: 78.7 seconds RetCode: 0 Status: OK