Package: FlowSorted.Blood.EPIC Version: 2.14.0 Command: /home/biocbuild/bbs-3.22-bioc/R/bin/R CMD INSTALL FlowSorted.Blood.EPIC StartedAt: 2025-11-04 11:02:05 -0500 (Tue, 04 Nov 2025) EndedAt: 2025-11-04 11:02:51 -0500 (Tue, 04 Nov 2025) EllapsedTime: 46.3 seconds RetCode: 0 Status: OK