Package: FlowSorted.Blood.EPIC Version: 2.14.0 Command: /home/biocbuild/bbs-3.22-bioc/R/bin/R CMD check --install=check:FlowSorted.Blood.EPIC.install-out.txt --library=/home/biocbuild/bbs-3.22-bioc/R/site-library --timings FlowSorted.Blood.EPIC_2.14.0.tar.gz StartedAt: 2025-11-04 12:17:30 -0500 (Tue, 04 Nov 2025) EndedAt: 2025-11-04 12:35:34 -0500 (Tue, 04 Nov 2025) EllapsedTime: 1084.4 seconds RetCode: 0 Status: OK CheckDir: FlowSorted.Blood.EPIC.Rcheck Warnings: 0