Package: FlowSorted.Blood.450k Version: 1.48.0 Command: /home/biocbuild/bbs-3.22-bioc/R/bin/R CMD check --install=check:FlowSorted.Blood.450k.install-out.txt --library=/home/biocbuild/bbs-3.22-bioc/R/site-library --timings FlowSorted.Blood.450k_1.48.0.tar.gz StartedAt: 2025-11-04 12:17:19 -0500 (Tue, 04 Nov 2025) EndedAt: 2025-11-04 12:20:28 -0500 (Tue, 04 Nov 2025) EllapsedTime: 189.2 seconds RetCode: 0 Status: WARNINGS CheckDir: FlowSorted.Blood.450k.Rcheck Warnings: 1