Package: Fletcher2013b Version: 1.46.0 Command: /home/biocbuild/bbs-3.22-bioc/R/bin/R CMD INSTALL Fletcher2013b StartedAt: 2025-11-04 11:04:25 -0500 (Tue, 04 Nov 2025) EndedAt: 2025-11-04 11:04:53 -0500 (Tue, 04 Nov 2025) EllapsedTime: 27.5 seconds RetCode: 0 Status: OK