Package: Fletcher2013b Version: 1.46.0 Command: /home/biocbuild/bbs-3.22-bioc/R/bin/R CMD check --install=check:Fletcher2013b.install-out.txt --library=/home/biocbuild/bbs-3.22-bioc/R/site-library --timings Fletcher2013b_1.46.0.tar.gz StartedAt: 2025-11-04 12:17:04 -0500 (Tue, 04 Nov 2025) EndedAt: 2025-11-04 12:20:58 -0500 (Tue, 04 Nov 2025) EllapsedTime: 233.5 seconds RetCode: 0 Status: WARNINGS CheckDir: Fletcher2013b.Rcheck Warnings: 1