Package: Fletcher2013b Version: 1.46.0 Command: /home/biocbuild/bbs-3.22-bioc/R/bin/R CMD build --keep-empty-dirs --no-resave-data Fletcher2013b StartedAt: 2025-11-04 11:18:57 -0500 (Tue, 04 Nov 2025) EndedAt: 2025-11-04 11:19:48 -0500 (Tue, 04 Nov 2025) EllapsedTime: 51.1 seconds RetCode: 0 Status: OK PackageFile: Fletcher2013b_1.46.0.tar.gz PackageFileSize: 263.6 MiB