Package: Fletcher2013b Version: 1.44.0 Command: /home/biocbuild/bbs-3.21-bioc/R/bin/R CMD check --install=check:Fletcher2013b.install-out.txt --library=/home/biocbuild/bbs-3.21-bioc/R/site-library --timings Fletcher2013b_1.44.0.tar.gz StartedAt: 2025-10-16 12:17:27 -0400 (Thu, 16 Oct 2025) EndedAt: 2025-10-16 12:21:19 -0400 (Thu, 16 Oct 2025) EllapsedTime: 232.8 seconds RetCode: 0 Status: WARNINGS CheckDir: Fletcher2013b.Rcheck Warnings: 1