Package: Fletcher2013a Version: 1.46.0 Command: /home/biocbuild/bbs-3.22-bioc/R/bin/R CMD INSTALL Fletcher2013a StartedAt: 2025-10-30 10:56:49 -0400 (Thu, 30 Oct 2025) EndedAt: 2025-10-30 10:56:58 -0400 (Thu, 30 Oct 2025) EllapsedTime: 8.7 seconds RetCode: 0 Status: OK