Package: FieldEffectCrc Version: 1.20.0 Command: /home/biocbuild/bbs-3.22-bioc/R/bin/R CMD build --keep-empty-dirs --no-resave-data FieldEffectCrc StartedAt: 2025-10-30 11:23:57 -0400 (Thu, 30 Oct 2025) EndedAt: 2025-10-30 11:27:54 -0400 (Thu, 30 Oct 2025) EllapsedTime: 237.3 seconds RetCode: 0 Status: OK PackageFile: FieldEffectCrc_1.20.0.tar.gz PackageFileSize: 239.5 KiB