Package: FIs Version: 1.38.0 Command: /home/biocbuild/bbs-3.22-bioc/R/bin/R CMD check --install=check:FIs.install-out.txt --library=/home/biocbuild/bbs-3.22-bioc/R/site-library --timings FIs_1.38.0.tar.gz StartedAt: 2025-11-04 12:16:50 -0500 (Tue, 04 Nov 2025) EndedAt: 2025-11-04 12:17:01 -0500 (Tue, 04 Nov 2025) EllapsedTime: 11.3 seconds RetCode: 0 Status: OK CheckDir: FIs.Rcheck Warnings: 0