Package: FIs Version: 1.36.0 Command: /home/biocbuild/bbs-3.21-bioc/R/bin/R CMD check --install=check:FIs.install-out.txt --library=/home/biocbuild/bbs-3.21-bioc/R/site-library --timings FIs_1.36.0.tar.gz StartedAt: 2025-10-16 12:17:04 -0400 (Thu, 16 Oct 2025) EndedAt: 2025-10-16 12:17:15 -0400 (Thu, 16 Oct 2025) EllapsedTime: 11.0 seconds RetCode: 0 Status: OK CheckDir: FIs.Rcheck Warnings: 0