Package: EpipwR.data Version: 1.4.0 Command: /home/biocbuild/bbs-3.22-bioc/R/bin/R CMD build --keep-empty-dirs --no-resave-data EpipwR.data StartedAt: 2025-11-04 11:18:18 -0500 (Tue, 04 Nov 2025) EndedAt: 2025-11-04 11:18:21 -0500 (Tue, 04 Nov 2025) EllapsedTime: 3.0 seconds RetCode: 0 Status: OK PackageFile: EpipwR.data_1.4.0.tar.gz PackageFileSize: 8.332 KiB