Package: EpiMix.data Version: 1.10.0 Command: /home/biocbuild/bbs-3.21-bioc/R/bin/R CMD INSTALL EpiMix.data StartedAt: 2025-10-16 10:57:35 -0400 (Thu, 16 Oct 2025) EndedAt: 2025-10-16 10:57:49 -0400 (Thu, 16 Oct 2025) EllapsedTime: 13.6 seconds RetCode: 0 Status: OK