Package: EpiMix.data Version: 1.12.0 Maintainer: Yuanning Zheng MaintainerEmail: eric2021 at stanford.edu git_url: https://git.bioconductor.org/packages/EpiMix.data git_branch: RELEASE_3_22 git_last_commit: 581330e git_last_commit_date: 2025-10-29 10:04:57 -0400 (Wed, 29 Oct 2025)