Package: EatonEtAlChIPseq Version: 0.48.0 Command: /home/biocbuild/bbs-3.22-bioc/R/bin/R CMD INSTALL EatonEtAlChIPseq StartedAt: 2025-11-04 11:01:18 -0500 (Tue, 04 Nov 2025) EndedAt: 2025-11-04 11:01:41 -0500 (Tue, 04 Nov 2025) EllapsedTime: 22.7 seconds RetCode: 0 Status: OK